BEGIN:VCALENDAR
PRODID:-//github.com/rianjs/ical.net//NONSGML ical.net 2.2//EN
VERSION:2.0
BEGIN:VEVENT
DESCRIPTION:Powers Auction Service - Voigtsland Dairy LLC Retirement Aucti
 on\nAuction Phone: 6087328982\n111 Items\n\nhttps://auctionresource.com/a
 uctions/55301/voigtsland-dairy-llc-retirement-auction
DTSTAMP:20260422T074610Z
DTSTART:20260423T140000Z
LOCATION:157 County Rd Xx\, Platteville\, WI 53818
SEQUENCE:0
SUMMARY:Voigtsland Dairy LLC Retirement Auction
UID:0ba7b4a0-c643-441b-b95e-b17901b442d6
URL:https://auctionresource.com/auctions/55301/voigtsland-dairy-llc-retire
 ment-auction
END:VEVENT
END:VCALENDAR
