BEGIN:VCALENDAR
PRODID:-//github.com/rianjs/ical.net//NONSGML ical.net 2.2//EN
VERSION:2.0
BEGIN:VEVENT
DESCRIPTION:J. Stout Auctions - Forestry & Logging Equipment Live Streamin
 g Auction\nAuction Phone: 8888978864\n225 Items\n\nhttps://auctionresourc
 e.com/auctions/55303/forestry--logging-equipment-live-streaming-auction
DTSTAMP:20260422T045929Z
DTSTART:20260429T153000Z
LOCATION:Washington
SEQUENCE:0
SUMMARY:Forestry & Logging Equipment Live Streaming Auction
UID:c7c6808f-cf72-4522-98ce-4cb42bd63d85
URL:https://auctionresource.com/auctions/55303/forestry--logging-equipment
 -live-streaming-auction
END:VEVENT
END:VCALENDAR
