BEGIN:VCALENDAR
PRODID:-//github.com/rianjs/ical.net//NONSGML ical.net 2.2//EN
VERSION:2.0
BEGIN:VEVENT
DESCRIPTION:Wolfe Industrial Auctions\, Inc. - Southern PA Online Timed Au
 ction\nAuction Phone: 8004439580\n0 Items\n\nhttps://auctionresource.com/
 auctions/55324/southern-pa-online-timed-auction
DTSTAMP:20260424T140410Z
DTSTART:20260505T140000Z
LOCATION:400 Old US Rte 15\, York Springs\, PA 17372
SEQUENCE:0
SUMMARY:Southern PA Online Timed Auction
UID:9ebcaca7-604e-46aa-a17b-54067d4ab570
URL:https://auctionresource.com/auctions/55324/southern-pa-online-timed-au
 ction
END:VEVENT
END:VCALENDAR
