BEGIN:VCALENDAR
PRODID:-//github.com/rianjs/ical.net//NONSGML ical.net 2.2//EN
VERSION:2.0
BEGIN:VEVENT
DESCRIPTION:Bar None Auction - MONTHLY PUBLIC AUCTION\nAuction Phone: 503.
 379.0694\n1857 Items\n\nhttps://auctionresource.com/auctions/55331/monthl
 y-public-auction
DTSTAMP:20260422T045929Z
DTSTART:20260424T153000Z
LOCATION:17129 HIGHWAY 99 NE\, WOODBURN\, OR 97071
SEQUENCE:0
SUMMARY:MONTHLY PUBLIC AUCTION
UID:f886e453-e3de-4bda-87bc-9bed23544291
URL:https://auctionresource.com/auctions/55331/monthly-public-auction
END:VEVENT
END:VCALENDAR
