BEGIN:VCALENDAR
PRODID:-//github.com/rianjs/ical.net//NONSGML ical.net 2.2//EN
VERSION:2.0
BEGIN:VEVENT
DESCRIPTION:Gross Auction Co. - Monthly Equipment and Attachment Consignme
 nt Auction\nAuction Phone: (810) 639-2612\n507 Items\n\nhttps://auctionre
 source.com/auctions/55741/monthly-equipment-and-attachment-consignment-au
 ction
DTSTAMP:20260420T192037Z
DTSTART:20260423T120000Z
LOCATION:10145 Sheridan Rd Montrose\, MI 48457
SEQUENCE:0
SUMMARY:Monthly Equipment and Attachment Consignment Auction
UID:38e7ad59-94d3-4023-bf90-0af4f19efa9e
URL:https://auctionresource.com/auctions/55741/monthly-equipment-and-attac
 hment-consignment-auction
END:VEVENT
END:VCALENDAR
