BEGIN:VCALENDAR
PRODID:-//github.com/rianjs/ical.net//NONSGML ical.net 2.2//EN
VERSION:2.0
BEGIN:VEVENT
DESCRIPTION:Dynamite Auction Company - 2026 Live Spring Equipment Auction\
 nAuction Phone: (931) 319-8219\n187 Items\n\nhttps://auctionresource.com/
 auctions/55790/2026-live-spring-equipment-auction
DTSTAMP:20260421T013907Z
DTSTART:20260425T140000Z
LOCATION:4489 Cookeville Hwy\, Cookeville\, TN 38570
SEQUENCE:0
SUMMARY:2026 Live Spring Equipment Auction
UID:258f19eb-4f3f-486e-8a01-4da60867612c
URL:https://auctionresource.com/auctions/55790/2026-live-spring-equipment-
 auction
END:VEVENT
END:VCALENDAR
