BEGIN:VCALENDAR
PRODID:-//github.com/rianjs/ical.net//NONSGML ical.net 2.2//EN
VERSION:2.0
BEGIN:VEVENT
DESCRIPTION:Witcher Auctions LLC - Nathan Crotts Farms\nAuction Phone: 870
 -238-1400\n82 Items\n\nhttps://auctionresource.com/auctions/55795/nathan-
 crotts-farms
DTSTAMP:20260421T050423Z
DTSTART;VALUE=DATE:20260429
LOCATION:252 Craighead County Rd 252 Rd\, Cash\, AR
SEQUENCE:0
SUMMARY:Nathan Crotts Farms
UID:0a74f8e6-12e1-4638-8c90-2d9ccb47c941
URL:https://auctionresource.com/auctions/55795/nathan-crotts-farms
END:VEVENT
END:VCALENDAR
