BEGIN:VCALENDAR
PRODID:-//github.com/rianjs/ical.net//NONSGML ical.net 2.2//EN
VERSION:2.0
BEGIN:VEVENT
DESCRIPTION:BigIron Auctions - Apr 22\, 2026 - Equipment Auction\nAuction 
 Phone: 8009373558\n1261 Items\n\nhttps://auctionresource.com/auctions/558
 19/apr-22-2026---equipment-auction
DTSTAMP:20260422T015545Z
DTSTART:20260422T130000Z
LOCATION:Various Locations
SEQUENCE:0
SUMMARY:Apr 22\, 2026 - Equipment Auction
UID:907aba02-fc5e-4639-93f6-6b856b0c9e72
URL:https://auctionresource.com/auctions/55819/apr-22-2026---equipment-auc
 tion
END:VEVENT
END:VCALENDAR
