BEGIN:VCALENDAR
PRODID:-//github.com/rianjs/ical.net//NONSGML ical.net 2.2//EN
VERSION:2.0
BEGIN:VEVENT
DESCRIPTION:BigIron Auctions - Kevin C. Goodman Estate\nAuction Phone: 641
 9904554\n95 Items\n\nhttps://auctionresource.com/auctions/55820/kevin-c-g
 oodman-estate
DTSTAMP:20260422T015545Z
DTSTART:20260422T130000Z
LOCATION:Haverhill\, IA
SEQUENCE:0
SUMMARY:Kevin C. Goodman Estate
UID:4022153f-c817-4ca8-b7d8-7df4c8eed733
URL:https://auctionresource.com/auctions/55820/kevin-c-goodman-estate
END:VEVENT
END:VCALENDAR
