BEGIN:VCALENDAR
PRODID:-//github.com/rianjs/ical.net//NONSGML ical.net 2.2//EN
VERSION:2.0
BEGIN:VEVENT
DESCRIPTION:BigIron Auctions - Olson Farms\nAuction Phone: 4026404518\n6 I
 tems\n\nhttps://auctionresource.com/auctions/55821/olson-farms
DTSTAMP:20260422T003019Z
DTSTART:20260422T130000Z
LOCATION:Dakota City\, NE
SEQUENCE:0
SUMMARY:Olson Farms
UID:cfc97b03-4d7d-4a4e-b931-e30b4997264d
URL:https://auctionresource.com/auctions/55821/olson-farms
END:VEVENT
END:VCALENDAR
