BEGIN:VCALENDAR
PRODID:-//github.com/rianjs/ical.net//NONSGML ical.net 2.2//EN
VERSION:2.0
BEGIN:VEVENT
DESCRIPTION:DeMott Auction - Ag & Contractor's Special Auction Ring 1\nAuc
 tion Phone: 2299854565\n0 Items\n\nhttps://auctionresource.com/auctions/5
 5822/ag--contractors-special-auction-ring-1
DTSTAMP:20260422T062357Z
DTSTART:20260515T130000Z
LOCATION:US 84\, Iron City\, Georgia
SEQUENCE:0
SUMMARY:Ag & Contractor's Special Auction Ring 1
UID:1205c148-4051-4ed8-b765-505242d0e0c3
URL:https://auctionresource.com/auctions/55822/ag--contractors-special-auc
 tion-ring-1
END:VEVENT
END:VCALENDAR
