BEGIN:VCALENDAR
PRODID:-//github.com/rianjs/ical.net//NONSGML ical.net 2.2//EN
VERSION:2.0
BEGIN:VEVENT
DESCRIPTION:DeMott Auction - Ag & Contractor's Special Auction Ring 2\nAuc
 tion Phone: 2299854565\n0 Items\n\nhttps://auctionresource.com/auctions/5
 5823/ag--contractors-special-auction-ring-2
DTSTAMP:20260422T060627Z
DTSTART:20260515T130000Z
LOCATION:US 84\, Iron City\, Georgia
SEQUENCE:0
SUMMARY:Ag & Contractor's Special Auction Ring 2
UID:eb1e21d2-a279-405a-b9b4-3a8f5aef0d3e
URL:https://auctionresource.com/auctions/55823/ag--contractors-special-auc
 tion-ring-2
END:VEVENT
END:VCALENDAR
