BEGIN:VCALENDAR
PRODID:-//github.com/rianjs/ical.net//NONSGML ical.net 2.2//EN
VERSION:2.0
BEGIN:VEVENT
DESCRIPTION:Permian International Auctions - Oilfield\, Truck\, & Construc
 tion Equipment\nAuction Phone: 4326942018\n698 Items\n\nhttps://auctionre
 source.com/auctions/55826/oilfield-truck--construction-equipment
DTSTAMP:20260422T153634Z
DTSTART:20260505T140000Z
LOCATION:Midland\, TX
SEQUENCE:0
SUMMARY:Oilfield\, Truck\, & Construction Equipment
UID:eefe444b-1da5-4aa2-9396-57a5188e8ad8
URL:https://auctionresource.com/auctions/55826/oilfield-truck--constructio
 n-equipment
END:VEVENT
END:VCALENDAR
