BEGIN:VCALENDAR
PRODID:-//github.com/rianjs/ical.net//NONSGML ical.net 2.2//EN
VERSION:2.0
BEGIN:VEVENT
DESCRIPTION:Aumann Auctions - April Golf Carts\, Containers\, Mini Excavat
 ors\, Mini Skid Steers and More\nAuction Phone: 2175632523\n118 Items\n\n
 https://auctionresource.com/auctions/55832/april-golf-carts-containers-mi
 ni-excavators-mini-skid-steers-and-more
DTSTAMP:20260422T003020Z
DTSTART:20260421T230000Z
LOCATION:20114 IL Rt. 16\, Nokomis\, Illinois 62075
SEQUENCE:0
SUMMARY:April Golf Carts\, Containers\, Mini Excavators\, Mini Skid Steers
  and More
UID:328517a9-fc08-4f59-8b2d-7a7e626d43fe
URL:https://auctionresource.com/auctions/55832/april-golf-carts-containers
 -mini-excavators-mini-skid-steers-and-more
END:VEVENT
END:VCALENDAR
