BEGIN:VCALENDAR
PRODID:-//github.com/rianjs/ical.net//NONSGML ical.net 2.2//EN
VERSION:2.0
BEGIN:VEVENT
DESCRIPTION:Aumann Auctions - April Containers\, Mini Skid Steers\, Attach
 ments and More\nAuction Phone: 2175632523\n42 Items\n\nhttps://auctionres
 ource.com/auctions/55833/april-containers-mini-skid-steers-attachments-an
 d-more
DTSTAMP:20260422T003020Z
DTSTART:20260422T230000Z
LOCATION:20114 IL RT. 16\, Nokomis\, Illinois 62075
SEQUENCE:0
SUMMARY:April Containers\, Mini Skid Steers\, Attachments and More
UID:beaccabf-df8e-4385-b745-f24d9ba4de41
URL:https://auctionresource.com/auctions/55833/april-containers-mini-skid-
 steers-attachments-and-more
END:VEVENT
END:VCALENDAR
