BEGIN:VCALENDAR
PRODID:-//github.com/rianjs/ical.net//NONSGML ical.net 2.2//EN
VERSION:2.0
BEGIN:VEVENT
DESCRIPTION:Taylor & Martin\, LLC - TUNICA\, MS\nAuction Phone: 4029411572
 \n161 Items\n\nhttps://auctionresource.com/auctions/55868/tunica-ms
DTSTAMP:20260423T132701Z
DTSTART:20260514T140000Z
LOCATION:2076 Selden Rd\, Tunica\, MS 38676
SEQUENCE:0
SUMMARY:TUNICA\, MS
UID:fdc177fc-4dff-4e50-b7b7-5322ac7f61f4
URL:https://auctionresource.com/auctions/55868/tunica-ms
END:VEVENT
END:VCALENDAR
