BEGIN:VCALENDAR
PRODID:-//github.com/rianjs/ical.net//NONSGML ical.net 2.2//EN
VERSION:2.0
BEGIN:VEVENT
DESCRIPTION:Taylor & Martin\, LLC - KERSEY (GREELEY)\, CO\nAuction Phone: 
 4029411550\n0 Items\n\nhttps://auctionresource.com/auctions/55869/kersey-
 greeley-co
DTSTAMP:20260423T132701Z
DTSTART:20260514T150000Z
LOCATION:26962 Transportation Dr\, Kersey (Greeley)\, CO 80644
SEQUENCE:0
SUMMARY:KERSEY (GREELEY)\, CO
UID:4d43c07a-5edb-43ea-9788-1bd88d84cdc8
URL:https://auctionresource.com/auctions/55869/kersey-greeley-co
END:VEVENT
END:VCALENDAR
