BEGIN:VCALENDAR
PRODID:-//github.com/rianjs/ical.net//NONSGML ical.net 2.2//EN
VERSION:2.0
BEGIN:VEVENT
DESCRIPTION:Taylor & Martin\, LLC - FORT WORTH\, TX\nAuction Phone: 402719
 9692\n0 Items\n\nhttps://auctionresource.com/auctions/55870/fort-worth-tx
DTSTAMP:20260423T132701Z
DTSTART:20260521T140000Z
LOCATION:3545 Lonestar Cir\, Fort Worth\, TX 76177
SEQUENCE:0
SUMMARY:FORT WORTH\, TX
UID:2e091792-4184-4e13-a384-b17cdea163c1
URL:https://auctionresource.com/auctions/55870/fort-worth-tx
END:VEVENT
END:VCALENDAR
