BEGIN:VCALENDAR
PRODID:-//github.com/rianjs/ical.net//NONSGML ical.net 2.2//EN
VERSION:2.0
BEGIN:VEVENT
DESCRIPTION:Bar None Auction - Monthly Public Auction - Fontana\, CA\nAuct
 ion Phone: (909) 383-5500\n1237 Items\n\nhttps://auctionresource.com/auct
 ions/55873/monthly-public-auction---fontana-ca
DTSTAMP:20260423T162126Z
DTSTART:20260501T153000Z
LOCATION:10375 Beech Ave.\, Fontana\, CA 92337
SEQUENCE:0
SUMMARY:Monthly Public Auction - Fontana\, CA
UID:209f7002-ad78-43c8-ac6e-1e4ca57aa596
URL:https://auctionresource.com/auctions/55873/monthly-public-auction---fo
 ntana-ca
END:VEVENT
END:VCALENDAR
