BEGIN:VCALENDAR
PRODID:-//github.com/rianjs/ical.net//NONSGML ical.net 2.2//EN
VERSION:2.0
BEGIN:VEVENT
DESCRIPTION:Bar None Auction - Monthly Public Auction - Woodburn\, OR\nAuc
 tion Phone: (503) 379-0841\n55 Items\n\nhttps://auctionresource.com/aucti
 ons/55875/monthly-public-auction---woodburn-or
DTSTAMP:20260423T162126Z
DTSTART:20260529T153000Z
LOCATION:17129 Highway 99E NE\, Woodburn\, OR 97071
SEQUENCE:0
SUMMARY:Monthly Public Auction - Woodburn\, OR
UID:0b37a831-b950-4ac2-8f41-6b3f052e181e
URL:https://auctionresource.com/auctions/55875/monthly-public-auction---wo
 odburn-or
END:VEVENT
END:VCALENDAR
