BEGIN:VCALENDAR
PRODID:-//github.com/rianjs/ical.net//NONSGML ical.net 2.2//EN
VERSION:2.0
BEGIN:VEVENT
DESCRIPTION:Elite Auction Co. - Dean Damron Retirement Auction & Others\nA
 uction Phone: 580-660-6179\n228 Items\n\nhttps://auctionresource.com/auct
 ions/55876/dean-damron-retirement-auction--others
DTSTAMP:20260423T170413Z
DTSTART:20260502T150000Z
LOCATION:3224 Hwy 6\, Elk City\, OK
SEQUENCE:0
SUMMARY:Dean Damron Retirement Auction & Others
UID:52b2175a-3a5a-45d2-8c9f-390c5474bb0b
URL:https://auctionresource.com/auctions/55876/dean-damron-retirement-auct
 ion--others
END:VEVENT
END:VCALENDAR
