BEGIN:VCALENDAR
PRODID:-//github.com/rianjs/ical.net//NONSGML ical.net 2.2//EN
VERSION:2.0
BEGIN:VEVENT
DESCRIPTION:Henderson Auctions - 4/29/2026 The Ellsworth Collection Online
  Only Auction | Day 1\nAuction Phone: (225) 686-2252\n1360 Items\n\nhttps
 ://auctionresource.com/auctions/55877/4292026-the-ellsworth-collection-on
 line-only-auction--day-1
DTSTAMP:20260423T035136Z
DTSTART:20260429T160000Z
LOCATION:Kiln\, Mississippi
SEQUENCE:0
SUMMARY:4/29/2026 The Ellsworth Collection Online Only Auction | Day 1
UID:1926d7e1-5e39-4da4-ad23-5a826efdec18
URL:https://auctionresource.com/auctions/55877/4292026-the-ellsworth-colle
 ction-online-only-auction--day-1
END:VEVENT
END:VCALENDAR
