BEGIN:VCALENDAR
PRODID:-//github.com/rianjs/ical.net//NONSGML ical.net 2.2//EN
VERSION:2.0
BEGIN:VEVENT
DESCRIPTION:Witcher Auctions LLC - Michael Ellis Farms\nAuction Phone: (87
 0) 238-1400\n0 Items\n\nhttps://auctionresource.com/auctions/56726/michae
 l-ellis-farms
DTSTAMP:20260422T135733Z
DTSTART;VALUE=DATE:20260515
LOCATION:717 Surridge Rd\, Pocahontas\, AR 72455
SEQUENCE:0
SUMMARY:Michael Ellis Farms
UID:e926f866-03b0-4f3d-b45c-744a7ee65a63
URL:https://auctionresource.com/auctions/56726/michael-ellis-farms
END:VEVENT
END:VCALENDAR
