BEGIN:VCALENDAR
PRODID:-//github.com/rianjs/ical.net//NONSGML ical.net 2.2//EN
VERSION:2.0
BEGIN:VEVENT
DESCRIPTION:Witcher Auctions LLC - 2026 Spring Arkansas Local Government A
 uction\nAuction Phone: (870) 238-1400\n0 Items\n\nhttps://auctionresource
 .com/auctions/56727/2026-spring-arkansas-local-government-auction
DTSTAMP:20260422T135733Z
DTSTART;VALUE=DATE:20260529
LOCATION:United States
SEQUENCE:0
SUMMARY:2026 Spring Arkansas Local Government Auction
UID:42fede83-939a-49b8-8e66-a175c5d9ae6e
URL:https://auctionresource.com/auctions/56727/2026-spring-arkansas-local-
 government-auction
END:VEVENT
END:VCALENDAR
