BEGIN:VCALENDAR
PRODID:-//github.com/rianjs/ical.net//NONSGML ical.net 2.2//EN
VERSION:2.0
BEGIN:VEVENT
DESCRIPTION:BigIron Auctions - Performance Acres Inc.\nAuction Phone: 3088
 901287\n107 Items\n\nhttps://auctionresource.com/auctions/56729/performan
 ce-acres-inc
DTSTAMP:20260422T203517Z
DTSTART:20260513T130000Z
LOCATION:Bushnell\, NE
SEQUENCE:0
SUMMARY:Performance Acres Inc.
UID:67112751-f3ca-4e33-a42b-70067ffaf964
URL:https://auctionresource.com/auctions/56729/performance-acres-inc
END:VEVENT
END:VCALENDAR
