BEGIN:VCALENDAR
PRODID:-//github.com/rianjs/ical.net//NONSGML ical.net 2.2//EN
VERSION:2.0
BEGIN:VEVENT
DESCRIPTION:Wilson National LLC - ACME Tree Service Inc Retirement Auction
 \nAuction Phone: (937) 763-1993\n67 Items\n\nhttps://auctionresource.com/
 auctions/56732/acme-tree-service-inc-retirement-auction
DTSTAMP:20260422T205405Z
DTSTART:20260509T120000Z
LOCATION:9730 Suspension Bridge Rd\, Harrison OH 45030
SEQUENCE:0
SUMMARY:ACME Tree Service Inc Retirement Auction
UID:26ee3e20-9c07-4e0d-918a-a0f9b1a8d4a8
URL:https://auctionresource.com/auctions/56732/acme-tree-service-inc-retir
 ement-auction
END:VEVENT
END:VCALENDAR
