BEGIN:VCALENDAR
PRODID:-//github.com/rianjs/ical.net//NONSGML ical.net 2.2//EN
VERSION:2.0
BEGIN:VEVENT
DESCRIPTION:Taylor & Martin\, LLC - SOUTH SIOUX CITY\, NE RING 2\nAuction 
 Phone: 4024944211\n214 Items\n\nhttps://auctionresource.com/auctions/5673
 3/south-sioux-city-ne-ring-2
DTSTAMP:20260423T010410Z
DTSTART:20260430T140000Z
LOCATION:1542 Atokad Dr\, South Sioux City\, NE 68776
SEQUENCE:0
SUMMARY:SOUTH SIOUX CITY\, NE RING 2
UID:4c9273a6-d64e-492a-8ad8-460702f8d674
URL:https://auctionresource.com/auctions/56733/south-sioux-city-ne-ring-2
END:VEVENT
END:VCALENDAR
