BEGIN:VCALENDAR
PRODID:-//github.com/rianjs/ical.net//NONSGML ical.net 2.2//EN
VERSION:2.0
BEGIN:VEVENT
DESCRIPTION:Ben H Royston Auctioneers - May Farm Auction\nAuction Phone: (
 432) 788-7879\n0 Items\n\nhttps://auctionresource.com/auctions/56749/may-
 farm-auction
DTSTAMP:20260424T134603Z
DTSTART:20260502T140000Z
LOCATION:Seminole\, TX
SEQUENCE:0
SUMMARY:May Farm Auction
UID:bc68d332-6679-4d0d-9e1a-69093382345a
URL:https://auctionresource.com/auctions/56749/may-farm-auction
END:VEVENT
END:VCALENDAR
