BEGIN:VCALENDAR
PRODID:-//github.com/rianjs/ical.net//NONSGML ical.net 2.2//EN
VERSION:2.0
BEGIN:VEVENT
DESCRIPTION:Permian International Auctions - Oilfield\, Truck\, & Construc
 tion Equipment Ring 2\nAuction Phone: 4326942018\n0 Items\n\nhttps://auct
 ionresource.com/auctions/56751/oilfield-truck--construction-equipment-rin
 g-2
DTSTAMP:20260424T134604Z
DTSTART:20260505T140000Z
LOCATION:Midland\, TX
SEQUENCE:0
SUMMARY:Oilfield\, Truck\, & Construction Equipment Ring 2
UID:e65260f8-fa16-454c-9b5e-59b50ce7ba41
URL:https://auctionresource.com/auctions/56751/oilfield-truck--constructio
 n-equipment-ring-2
END:VEVENT
END:VCALENDAR
