BEGIN:VCALENDAR
PRODID:-//github.com/rianjs/ical.net//NONSGML ical.net 2.2//EN
VERSION:2.0
BEGIN:VEVENT
DESCRIPTION:Aumann Auctions - 2026 Pre '30 Gas Engine Collection\nAuction 
 Phone: 2175632523\n0 Items\n\nhttps://auctionresource.com/auctions/56752/
 2026-pre-30-gas-engine-collection
DTSTAMP:20260423T164026Z
DTSTART:20260429T230000Z
LOCATION:20114 IL RT. 16\, Nokomis\, Illinois 62075
SEQUENCE:0
SUMMARY:2026 Pre '30 Gas Engine Collection
UID:3591bd25-9a96-4d86-8283-08f3d02c0600
URL:https://auctionresource.com/auctions/56752/2026-pre-30-gas-engine-coll
 ection
END:VEVENT
END:VCALENDAR
