BEGIN:VCALENDAR
PRODID:-//github.com/rianjs/ical.net//NONSGML ical.net 2.2//EN
VERSION:2.0
BEGIN:VEVENT
DESCRIPTION:Aumann Auctions - 2026 Pre '30 Implements\, Tractor and Engine
  Parts Auction\nAuction Phone: 2175632523\n0 Items\n\nhttps://auctionreso
 urce.com/auctions/56753/2026-pre-30-implements-tractor-and-engine-parts-a
 uction
DTSTAMP:20260423T163511Z
DTSTART:20260430T230000Z
LOCATION:20114 IL RT. 16\, Nokomis\, Illinois 62075
SEQUENCE:0
SUMMARY:2026 Pre '30 Implements\, Tractor and Engine Parts Auction
UID:b45f287d-1ad6-46a1-a069-b713eb7c94d3
URL:https://auctionresource.com/auctions/56753/2026-pre-30-implements-trac
 tor-and-engine-parts-auction
END:VEVENT
END:VCALENDAR
