BEGIN:VCALENDAR
PRODID:-//github.com/rianjs/ical.net//NONSGML ical.net 2.2//EN
VERSION:2.0
BEGIN:VEVENT
DESCRIPTION:Bright Star Auctions - Lake Erie Equipment Absolute Auction - 
 Ring 1 - Middlefield\, OH\nAuction Phone: 4403216965\n0 Items\n\nhttps://
 auctionresource.com/auctions/56755/lake-erie-equipment-absolute-auction--
 -ring-1---middlefield-oh
DTSTAMP:20260424T135357Z
DTSTART:20260529T130000Z
LOCATION:16989 Kinsman Rd.Middlefield\, OH 44062
SEQUENCE:0
SUMMARY:Lake Erie Equipment Absolute Auction - Ring 1 - Middlefield\, OH
UID:42ba6456-7906-4fac-8b78-9915e481aef9
URL:https://auctionresource.com/auctions/56755/lake-erie-equipment-absolut
 e-auction---ring-1---middlefield-oh
END:VEVENT
END:VCALENDAR
