BEGIN:VCALENDAR
PRODID:-//github.com/rianjs/ical.net//NONSGML ical.net 2.2//EN
VERSION:2.0
BEGIN:VEVENT
DESCRIPTION:Yoder & Frey - Yoder & Frey: Florida\nAuction Phone: 407396606
 0\n646 Items\n\nhttps://auctionresource.com/auctions/56758/yoder--frey-fl
 orida
DTSTAMP:20260424T134604Z
DTSTART:20260604T123000Z
LOCATION:654 West Southport Rd\, Kissimmee\, FL 34746
SEQUENCE:0
SUMMARY:Yoder & Frey: Florida
UID:470dd8da-97cf-4f72-90db-0a99a4537f57
URL:https://auctionresource.com/auctions/56758/yoder--frey-florida
END:VEVENT
BEGIN:VEVENT
DESCRIPTION:Yoder & Frey - Yoder & Frey: Florida\nAuction Phone: 407396606
 0\n646 Items\n\nhttps://auctionresource.com/auctions/56758/yoder--frey-fl
 orida
DTSTAMP:20260424T134604Z
DTSTART:20260605T123000Z
LOCATION:654 West Southport Rd\, Kissimmee\, FL 34746
SEQUENCE:0
SUMMARY:Yoder & Frey: Florida
UID:f8e5ad51-ba37-4189-92bc-517272af354f
URL:https://auctionresource.com/auctions/56758/yoder--frey-florida
END:VEVENT
END:VCALENDAR
