BEGIN:VCALENDAR
PRODID:-//github.com/rianjs/ical.net//NONSGML ical.net 2.2//EN
VERSION:2.0
BEGIN:VEVENT
DESCRIPTION:Hansen Auction Group - John Schulz Retirement Auction - Pittsv
 ille\, WI\nAuction Phone: 7152654656\n101 Items\n\nhttps://auctionresourc
 e.com/auctions/56760/john-schulz-retirement-auction---pittsville-wi
DTSTAMP:20260424T134603Z
DTSTART:20260507T230000Z
LOCATION:5352 Cty Rd B\, Pittsville WI 54466
SEQUENCE:0
SUMMARY:John Schulz Retirement Auction - Pittsville\, WI
UID:450f21fd-e95b-4fc3-9e82-f475896d77c2
URL:https://auctionresource.com/auctions/56760/john-schulz-retirement-auct
 ion---pittsville-wi
END:VEVENT
END:VCALENDAR
