BEGIN:VCALENDAR
PRODID:-//github.com/rianjs/ical.net//NONSGML ical.net 2.2//EN
VERSION:2.0
BEGIN:VEVENT
DESCRIPTION:Hansen Auction Group - West Central Contractors - Mondovi\, WI
 \nAuction Phone: 6088638859\n0 Items\n\nhttps://auctionresource.com/aucti
 ons/56761/west-central-contractors---mondovi-wi
DTSTAMP:20260424T135357Z
DTSTART:20260511T230000Z
LOCATION:860 Gaylord Ave.\, Mondovi\, WI 54755
SEQUENCE:0
SUMMARY:West Central Contractors - Mondovi\, WI
UID:2c0bed3e-ec81-4b98-8011-2dadbe4f845a
URL:https://auctionresource.com/auctions/56761/west-central-contractors---
 mondovi-wi
END:VEVENT
END:VCALENDAR
