BEGIN:VCALENDAR
PRODID:-//github.com/rianjs/ical.net//NONSGML ical.net 2.2//EN
VERSION:2.0
BEGIN:VEVENT
DESCRIPTION:MasCo Equipment LLC - Spring Ag/Construction Equipment Auction
  Ring 2\nAuction Phone: (903) 951-2046\n131 Items\n\nhttps://auctionresou
 rce.com/auctions/56765/spring-agconstruction-equipment-auction-ring-2
DTSTAMP:20260424T134604Z
DTSTART:20260507T130000Z
LOCATION:1129 Industrial Dr W\, Sulphur Springs\, TX 75482
SEQUENCE:0
SUMMARY:Spring Ag/Construction Equipment Auction Ring 2
UID:154091ff-7c67-4fcf-91c8-26fa5de2698f
URL:https://auctionresource.com/auctions/56765/spring-agconstruction-equip
 ment-auction-ring-2
END:VEVENT
END:VCALENDAR
