BEGIN:VCALENDAR
PRODID:-//github.com/rianjs/ical.net//NONSGML ical.net 2.2//EN
VERSION:2.0
BEGIN:VEVENT
DESCRIPTION:Gavin Bros. Auctioneers | Real Estate - Mike Kriegel Estate Au
 ction\nAuction Phone: (608) 524-6416\n0 Items\n\nhttps://auctionresource.
 com/auctions/56766/mike-kriegel-estate-auction
DTSTAMP:20260424T001826Z
DTSTART:20260428T140000Z
LOCATION:E7429 State Road 23 and 33\, Reedsburg\, WI 53959
SEQUENCE:0
SUMMARY:Mike Kriegel Estate Auction
UID:bad3d838-9381-432a-9ae3-d5af5ece2972
URL:https://auctionresource.com/auctions/56766/mike-kriegel-estate-auction
END:VEVENT
END:VCALENDAR
