BEGIN:VCALENDAR
PRODID:-//github.com/rianjs/ical.net//NONSGML ical.net 2.2//EN
VERSION:2.0
BEGIN:VEVENT
DESCRIPTION:Gavin Bros. Auctioneers | Real Estate - April Farm/Constructio
 n Consignment\nAuction Phone: (608) 524-6416\n0 Items\n\nhttps://auctionr
 esource.com/auctions/56767/april-farmconstruction-consignment
DTSTAMP:20260424T001827Z
DTSTART:20260430T140000Z
LOCATION:E7429 State Road 23 and 33\, Reedsburg\, WI 53959
SEQUENCE:0
SUMMARY:April Farm/Construction Consignment
UID:99b653d8-3818-4efc-9838-ff57659ae5d9
URL:https://auctionresource.com/auctions/56767/april-farmconstruction-cons
 ignment
END:VEVENT
END:VCALENDAR
