BEGIN:VCALENDAR
PRODID:-//github.com/rianjs/ical.net//NONSGML ical.net 2.2//EN
VERSION:2.0
BEGIN:VEVENT
DESCRIPTION:Gavin Bros. Auctioneers | Real Estate - Bob & Angel Adams\nAuc
 tion Phone: (608) 524-6416\n0 Items\n\nhttps://auctionresource.com/auctio
 ns/56768/bob--angel-adams
DTSTAMP:20260424T001826Z
DTSTART:20260423T140000Z
LOCATION:S5949 Spring Valley Rd\, Loganville\, WI 53943
SEQUENCE:0
SUMMARY:Bob & Angel Adams
UID:fd3985d7-a733-412a-b852-2e44b2fdfa2f
URL:https://auctionresource.com/auctions/56768/bob--angel-adams
END:VEVENT
END:VCALENDAR
